BEGIN:VCALENDAR
VERSION:2.0
PRODID:https://www.bergwaldtheater.de/
X-PUBLISHED-TTL:P1D
BEGIN:VEVENT
UID:69ebaccdbef56
DTSTART:20260619T180000Z
SEQUENCE:0
TRANSP:OPAQUE
DTEND:20260619T203000Z
URL:https://www.bergwaldtheater.de/veranstaltungen/abgesagt_und_taeglich_gr
 uesst-625291-12568349/
LOCATION:Bergwaldtheater - Weißenburg i. Bay.
SUMMARY:ABGESAGT! Und Täglich grüßt das Murmeltier
DTSTAMP:20260424T194757Z
END:VEVENT
END:VCALENDAR