BEGIN:VCALENDAR
VERSION:2.0
PRODID:https://www.bergwaldtheater.de/
X-PUBLISHED-TTL:P1D
BEGIN:VEVENT
UID:69ebc13ca5d42
DTSTART:20260612T180000Z
SEQUENCE:0
TRANSP:OPAQUE
DTEND:20260612T203000Z
URL:https://www.bergwaldtheater.de/veranstaltungen/abgesagt_und_taeglich_gr
 uesst-625291/
LOCATION:Bergwaldtheater - Weißenburg i. Bay.
SUMMARY:ABGESAGT! Und Täglich grüßt das Murmeltier
DTSTAMP:20260424T211508Z
END:VEVENT
END:VCALENDAR