BEGIN:VCALENDAR
VERSION:2.0
PRODID:https://www.bergwaldtheater.de/
X-PUBLISHED-TTL:P1D
BEGIN:VEVENT
UID:69e8b574b15bd
DTSTART:20260515T150000Z
SEQUENCE:0
TRANSP:OPAQUE
DTEND:20260515T150000Z
URL:https://www.bergwaldtheater.de/veranstaltungen/heimspiel-festival-78449
 3-12682175/
LOCATION:Bergwaldtheater - Weißenburg i. Bay.
SUMMARY:Heimspiel-Festival
DTSTAMP:20260422T134804Z
END:VEVENT
END:VCALENDAR