BEGIN:VCALENDAR
VERSION:2.0
PRODID:https://www.bergwaldtheater.de/
X-PUBLISHED-TTL:P1D
BEGIN:VEVENT
UID:69e913c41bc03
DTSTART:20260516T110000Z
SEQUENCE:0
TRANSP:OPAQUE
DTEND:20260516T110000Z
URL:https://www.bergwaldtheater.de/veranstaltungen/heimspiel-festival-80741
 7-12683221/
LOCATION:Bergwaldtheater - Weißenburg i. Bay.
SUMMARY:Heimspiel-Festival
DTSTAMP:20260422T203028Z
END:VEVENT
END:VCALENDAR